BEGIN:VCALENDAR
VERSION:2.0
PRODID:-//Colegio La Paz - ECPv6.15.5//NONSGML v1.0//EN
CALSCALE:GREGORIAN
METHOD:PUBLISH
X-WR-CALNAME:Colegio La Paz
X-ORIGINAL-URL:https://www.elcolegiolapaz.edu.mx
X-WR-CALDESC:Eventos para Colegio La Paz
REFRESH-INTERVAL;VALUE=DURATION:PT1H
X-Robots-Tag:noindex
X-PUBLISHED-TTL:PT1H
BEGIN:VTIMEZONE
TZID:America/Chicago
BEGIN:DAYLIGHT
TZOFFSETFROM:-0600
TZOFFSETTO:-0500
TZNAME:CDT
DTSTART:20260308T080000
END:DAYLIGHT
BEGIN:STANDARD
TZOFFSETFROM:-0500
TZOFFSETTO:-0600
TZNAME:CST
DTSTART:20261101T070000
END:STANDARD
END:VTIMEZONE
BEGIN:VEVENT
DTSTART;TZID=America/Chicago:20260501T070000
DTEND;TZID=America/Chicago:20260501T150000
DTSTAMP:20260423T165130
CREATED:20240823T195742Z
LAST-MODIFIED:20251024T193012Z
UID:11138-1777618800-1777647600@www.elcolegiolapaz.edu.mx
SUMMARY:Suspensión de Labores Docentes
DESCRIPTION:Suspensión de labores docentes.
URL:https://www.elcolegiolapaz.edu.mx/evento/suspension-de-labores-docentes-6/
LOCATION:Colegio la Paz\, Prolongación 5 de mayo #283 Col. San Pedro Mártir\, CDMX\, 14650\, Mexico
CATEGORIES:Preescolar,Prepa CCH,Primaria,Secundaria
ATTACH;FMTTYPE=image/png:https://www.elcolegiolapaz.edu.mx/wp-content/uploads/2024/08/PalomaRoja.png
END:VEVENT
BEGIN:VEVENT
DTSTART;TZID=America/Chicago:20260505T070000
DTEND;TZID=America/Chicago:20260505T150000
DTSTAMP:20260423T165130
CREATED:20240823T195817Z
LAST-MODIFIED:20251024T193118Z
UID:11140-1777964400-1777993200@www.elcolegiolapaz.edu.mx
SUMMARY:Suspensión de Labores Docentes
DESCRIPTION:Suspensión de labores docentes.
URL:https://www.elcolegiolapaz.edu.mx/evento/suspension-de-labores-docentes-7/
LOCATION:Colegio la Paz\, Prolongación 5 de mayo #283 Col. San Pedro Mártir\, CDMX\, 14650\, Mexico
CATEGORIES:Preescolar,Prepa CCH,Primaria,Secundaria
ATTACH;FMTTYPE=image/png:https://www.elcolegiolapaz.edu.mx/wp-content/uploads/2024/08/PalomaRoja.png
END:VEVENT
BEGIN:VEVENT
DTSTART;TZID=America/Chicago:20260515T070000
DTEND;TZID=America/Chicago:20260515T150000
DTSTAMP:20260423T165130
CREATED:20240823T195857Z
LAST-MODIFIED:20251024T193234Z
UID:11142-1778828400-1778857200@www.elcolegiolapaz.edu.mx
SUMMARY:Suspensión de Labores Docentes
DESCRIPTION:Suspensión de labores docentes.
URL:https://www.elcolegiolapaz.edu.mx/evento/suspension-de-labores-docentes-8/
LOCATION:Colegio la Paz\, Prolongación 5 de mayo #283 Col. San Pedro Mártir\, CDMX\, 14650\, Mexico
CATEGORIES:Preescolar,Prepa CCH,Primaria,Secundaria
ATTACH;FMTTYPE=image/png:https://www.elcolegiolapaz.edu.mx/wp-content/uploads/2024/08/PalomaRoja.png
END:VEVENT
BEGIN:VEVENT
DTSTART;TZID=America/Chicago:20260518T070000
DTEND;TZID=America/Chicago:20260522T150000
DTSTAMP:20260423T165130
CREATED:20240823T193804Z
LAST-MODIFIED:20251024T194125Z
UID:11107-1779087600-1779462000@www.elcolegiolapaz.edu.mx
SUMMARY:Revisión Uniforme Mayo
DESCRIPTION:Directivos del Colegio llevan a cabo una revisión del uniforme escolar. Tiene como objetivo reforzar hábitos como el orden\, la higiene personal; así como la identidad del Colegio.
URL:https://www.elcolegiolapaz.edu.mx/evento/revision-uniforme-mayo/
LOCATION:Colegio la Paz\, Prolongación 5 de mayo #283 Col. San Pedro Mártir\, CDMX\, 14650\, Mexico
CATEGORIES:Preescolar,Primaria,Secundaria
ATTACH;FMTTYPE=image/jpeg:https://www.elcolegiolapaz.edu.mx/wp-content/uploads/2024/08/Uniformes-scaled.jpg
END:VEVENT
BEGIN:VEVENT
DTSTART;TZID=America/Chicago:20260525T070000
DTEND;TZID=America/Chicago:20260528T150000
DTSTAMP:20260423T165130
CREATED:20240823T192236Z
LAST-MODIFIED:20251024T194255Z
UID:11095-1779692400-1779980400@www.elcolegiolapaz.edu.mx
SUMMARY:Spelling Bee
DESCRIPTION:El concurso de Spelling Bee es una oportunidad para fomentar el amor por las palabras y la lengua\, creando recuerdos inolvidables para todos los involucrados. El evento no sólo practica la destreza en la ortografía\, sino también el esfuerzo y la responsabilidad de los estudiantes. Este evento se lleva a cabo compitiendo con escuelas invitadas.
URL:https://www.elcolegiolapaz.edu.mx/evento/spelling-bee/
LOCATION:Colegio la Paz\, Prolongación 5 de mayo #283 Col. San Pedro Mártir\, CDMX\, 14650\, Mexico
CATEGORIES:Primaria,Secundaria
END:VEVENT
BEGIN:VEVENT
DTSTART;TZID=America/Chicago:20260529T070000
DTEND;TZID=America/Chicago:20260529T150000
DTSTAMP:20260423T165130
CREATED:20240823T200230Z
LAST-MODIFIED:20251024T194837Z
UID:11148-1780038000-1780066800@www.elcolegiolapaz.edu.mx
SUMMARY:Junta de Consejo Técnico
DESCRIPTION:Suspensión de labores docentes por Junta de Consejo Técnico.
URL:https://www.elcolegiolapaz.edu.mx/evento/junta-de-consejo-tecnico-3/
LOCATION:Colegio la Paz\, Prolongación 5 de mayo #283 Col. San Pedro Mártir\, CDMX\, 14650\, Mexico
CATEGORIES:Preescolar,Primaria
ATTACH;FMTTYPE=image/png:https://www.elcolegiolapaz.edu.mx/wp-content/uploads/2024/08/PalomaNaranja.png
END:VEVENT
END:VCALENDAR