BEGIN:VCALENDAR
VERSION:2.0
PRODID:-//Colegio La Paz - ECPv6.15.5//NONSGML v1.0//EN
CALSCALE:GREGORIAN
METHOD:PUBLISH
X-WR-CALNAME:Colegio La Paz
X-ORIGINAL-URL:https://www.elcolegiolapaz.edu.mx
X-WR-CALDESC:Eventos para Colegio La Paz
REFRESH-INTERVAL;VALUE=DURATION:PT1H
X-Robots-Tag:noindex
X-PUBLISHED-TTL:PT1H
BEGIN:VTIMEZONE
TZID:America/Chicago
BEGIN:DAYLIGHT
TZOFFSETFROM:-0600
TZOFFSETTO:-0500
TZNAME:CDT
DTSTART:20250309T080000
END:DAYLIGHT
BEGIN:STANDARD
TZOFFSETFROM:-0500
TZOFFSETTO:-0600
TZNAME:CST
DTSTART:20251102T070000
END:STANDARD
BEGIN:DAYLIGHT
TZOFFSETFROM:-0600
TZOFFSETTO:-0500
TZNAME:CDT
DTSTART:20260308T080000
END:DAYLIGHT
BEGIN:STANDARD
TZOFFSETFROM:-0500
TZOFFSETTO:-0600
TZNAME:CST
DTSTART:20261101T070000
END:STANDARD
END:VTIMEZONE
BEGIN:VEVENT
DTSTART;TZID=America/Chicago:20251220T070000
DTEND;TZID=America/Chicago:20260111T150000
DTSTAMP:20260423T165144
CREATED:20240823T194218Z
LAST-MODIFIED:20251024T190746Z
UID:11112-1766214000-1768143600@www.elcolegiolapaz.edu.mx
SUMMARY:Vacaciones de invierno
DESCRIPTION:Periodo vacacional.
URL:https://www.elcolegiolapaz.edu.mx/evento/vacaciones-de-invierno/
LOCATION:Colegio la Paz\, Prolongación 5 de mayo #283 Col. San Pedro Mártir\, CDMX\, 14650\, Mexico
CATEGORIES:Preescolar,Prepa CCH,Primaria,Secundaria
ATTACH;FMTTYPE=image/png:https://www.elcolegiolapaz.edu.mx/wp-content/uploads/2024/08/PalomaVerde.png
END:VEVENT
BEGIN:VEVENT
DTSTART;TZID=America/Chicago:20260112T070000
DTEND;TZID=America/Chicago:20260116T150000
DTSTAMP:20260423T165144
CREATED:20240823T193720Z
LAST-MODIFIED:20251024T191142Z
UID:11105-1768201200-1768575600@www.elcolegiolapaz.edu.mx
SUMMARY:Revisión Uniforme Enero
DESCRIPTION:Directivos del Colegio llevan a cabo una revisión del uniforme escolar. Tiene como objetivo reforzar hábitos como el orden\, la higiene personal; así como la identidad del Colegio.
URL:https://www.elcolegiolapaz.edu.mx/evento/revision-uniforme-enero/
LOCATION:Colegio la Paz\, Prolongación 5 de mayo #283 Col. San Pedro Mártir\, CDMX\, 14650\, Mexico
CATEGORIES:Preescolar,Primaria,Secundaria
ATTACH;FMTTYPE=image/jpeg:https://www.elcolegiolapaz.edu.mx/wp-content/uploads/2024/08/Uniformes-scaled.jpg
END:VEVENT
BEGIN:VEVENT
DTSTART;TZID=America/Chicago:20260123T070000
DTEND;TZID=America/Chicago:20260123T150000
DTSTAMP:20260423T165144
CREATED:20240823T191532Z
LAST-MODIFIED:20251024T191421Z
UID:11085-1769151600-1769180400@www.elcolegiolapaz.edu.mx
SUMMARY:61º Aniversario Colegio La Paz
DESCRIPTION:61 años de estar formando personas íntegras. Ven a celebrar con nosotros.
URL:https://www.elcolegiolapaz.edu.mx/evento/60o-aniversario-colegio-la-paz/
LOCATION:Colegio la Paz\, Prolongación 5 de mayo #283 Col. San Pedro Mártir\, CDMX\, 14650\, Mexico
CATEGORIES:Preescolar,Prepa CCH,Primaria,Secundaria
ATTACH;FMTTYPE=image/jpeg:https://www.elcolegiolapaz.edu.mx/wp-content/uploads/2024/08/PortadaCampus.jpg
END:VEVENT
BEGIN:VEVENT
DTSTART;TZID=America/Chicago:20260130T070000
DTEND;TZID=America/Chicago:20260130T150000
DTSTAMP:20260423T165144
CREATED:20240823T200153Z
LAST-MODIFIED:20251024T191603Z
UID:11146-1769756400-1769785200@www.elcolegiolapaz.edu.mx
SUMMARY:Junta de Consejo Técnico
DESCRIPTION:Suspensión de labores docentes por Junta de Consejo Técnico.
URL:https://www.elcolegiolapaz.edu.mx/evento/junta-de-consejo-tecnico-2/
LOCATION:Colegio la Paz\, Prolongación 5 de mayo #283 Col. San Pedro Mártir\, CDMX\, 14650\, Mexico
CATEGORIES:Preescolar,Primaria
ATTACH;FMTTYPE=image/png:https://www.elcolegiolapaz.edu.mx/wp-content/uploads/2024/08/PalomaNaranja.png
END:VEVENT
END:VCALENDAR